BEGIN:VCALENDAR
VERSION:2.0
PRODID:-//Ceres Rural - ECPv6.15.18//NONSGML v1.0//EN
CALSCALE:GREGORIAN
METHOD:PUBLISH
X-ORIGINAL-URL:https://ceresrural.co.uk
X-WR-CALDESC:Events for Ceres Rural
REFRESH-INTERVAL;VALUE=DURATION:PT1H
X-Robots-Tag:noindex
X-PUBLISHED-TTL:PT1H
BEGIN:VTIMEZONE
TZID:Europe/London
BEGIN:DAYLIGHT
TZOFFSETFROM:+0000
TZOFFSETTO:+0100
TZNAME:BST
DTSTART:20210328T010000
END:DAYLIGHT
BEGIN:STANDARD
TZOFFSETFROM:+0100
TZOFFSETTO:+0000
TZNAME:GMT
DTSTART:20211031T010000
END:STANDARD
BEGIN:DAYLIGHT
TZOFFSETFROM:+0000
TZOFFSETTO:+0100
TZNAME:BST
DTSTART:20220327T010000
END:DAYLIGHT
BEGIN:STANDARD
TZOFFSETFROM:+0100
TZOFFSETTO:+0000
TZNAME:GMT
DTSTART:20221030T010000
END:STANDARD
BEGIN:DAYLIGHT
TZOFFSETFROM:+0000
TZOFFSETTO:+0100
TZNAME:BST
DTSTART:20230326T010000
END:DAYLIGHT
BEGIN:STANDARD
TZOFFSETFROM:+0100
TZOFFSETTO:+0000
TZNAME:GMT
DTSTART:20231029T010000
END:STANDARD
BEGIN:DAYLIGHT
TZOFFSETFROM:+0000
TZOFFSETTO:+0100
TZNAME:BST
DTSTART:20240331T010000
END:DAYLIGHT
BEGIN:STANDARD
TZOFFSETFROM:+0100
TZOFFSETTO:+0000
TZNAME:GMT
DTSTART:20241027T010000
END:STANDARD
BEGIN:DAYLIGHT
TZOFFSETFROM:+0000
TZOFFSETTO:+0100
TZNAME:BST
DTSTART:20250330T010000
END:DAYLIGHT
BEGIN:STANDARD
TZOFFSETFROM:+0100
TZOFFSETTO:+0000
TZNAME:GMT
DTSTART:20251026T010000
END:STANDARD
BEGIN:DAYLIGHT
TZOFFSETFROM:+0000
TZOFFSETTO:+0100
TZNAME:BST
DTSTART:20260329T010000
END:DAYLIGHT
BEGIN:STANDARD
TZOFFSETFROM:+0100
TZOFFSETTO:+0000
TZNAME:GMT
DTSTART:20261025T010000
END:STANDARD
END:VTIMEZONE
BEGIN:VEVENT
DTSTART;VALUE=DATE:20250528
DTEND;VALUE=DATE:20250530
DTSTAMP:20260425T165337
CREATED:20250410T162256Z
LAST-MODIFIED:20251127T145043Z
UID:10000135-1748390400-1748563199@ceresrural.co.uk
SUMMARY:Suffolk Show
DESCRIPTION:Visit us on stand 274 located in the Farm4Future area.
URL:https://ceresrural.co.uk/event/suffolk-show-3/
LOCATION:Trinity Park\, Felixstowe Road\, Ipswich\, IP3 8UH
END:VEVENT
BEGIN:VEVENT
DTSTART;VALUE=DATE:20240529
DTEND;VALUE=DATE:20240531
DTSTAMP:20260425T165337
CREATED:20240108T170102Z
LAST-MODIFIED:20251127T151546Z
UID:10000103-1716940800-1717113599@ceresrural.co.uk
SUMMARY:Suffolk Show 2024
DESCRIPTION:Visit us on our stand located in the Farm4Future area.
URL:https://ceresrural.co.uk/event/suffolk-show-2/
LOCATION:Trinity Park\, Felixstowe Road\, Ipswich\, IP3 8UH
END:VEVENT
BEGIN:VEVENT
DTSTART;TZID=Europe/London:20230531T070000
DTEND;TZID=Europe/London:20230601T173000
DTSTAMP:20260425T165337
CREATED:20230419T154711Z
LAST-MODIFIED:20251117T161705Z
UID:10000083-1685516400-1685640600@ceresrural.co.uk
SUMMARY:The Suffolk Show
DESCRIPTION:We are excited to be part of the Farm4Future area at The Suffolk Show\, where our focus will be Soil Health.  Come along and visit our stand.
URL:https://ceresrural.co.uk/event/the-suffolk-show/
LOCATION:Trinity Park\, Felixstowe Road\, Ipswich\, IP3 8UH
END:VEVENT
BEGIN:VEVENT
DTSTART;VALUE=DATE:20220531
DTEND;VALUE=DATE:20220602
DTSTAMP:20260425T165337
CREATED:20220407T090834Z
LAST-MODIFIED:20251128T102350Z
UID:10000076-1653955200-1654127999@ceresrural.co.uk
SUMMARY:Suffolk Show 2022
DESCRIPTION:We look forward to seeing you at the Suffolk Show as several members of staff will be in attendance.
URL:https://ceresrural.co.uk/event/suffolk-show/
LOCATION:Trinity Park\, Felixstowe Road\, Ipswich\, IP3 8UH
END:VEVENT
END:VCALENDAR